BEGIN:VCALENDAR
VERSION:2.0
PRODID:-//K-Pop Party 호주 케이팝 파티 - ECPv4.6.24.1//NONSGML v1.0//EN
CALSCALE:GREGORIAN
METHOD:PUBLISH
X-WR-CALNAME:K-Pop Party 호주 케이팝 파티
X-ORIGINAL-URL:https://www.kpopnight.com.au
X-WR-CALDESC:Events for K-Pop Party 호주 케이팝 파티
BEGIN:VEVENT
DTSTART;TZID=Australia/Melbourne:20210205T223000
DTEND;TZID=Australia/Melbourne:20210206T030000
DTSTAMP:20210301T163818
CREATED:20210113T084149Z
LAST-MODIFIED:20210205T063044Z
UID:133961-1612564200-1612580400@www.kpopnight.com.au
SUMMARY:[TONIGHT] MELBOURNE K-Pop Party 5th Feb [Get Your Tickets at the door TONIGHT]
DESCRIPTION:\nLimited Tickets Available due to Restrictions! Max 150!\nOnline Tickets SOLD OUT! GET YOUR TICKETS AT THE DOOR TONIGHT!\n\nWE ARE BACK! More Variety of Songs and New Playlist! Come down and K-Pop party with us! We will be playing all your favourite K-Pop Hits! 18+ Event. \n\nProfessional Photographer / Videographer in Attendance \n\nID: 18+ Photo ID is required (Passport\, Australian Drivers License)\nDATE / TIME: Friday 5th February 2021 10:30pm – 3am\nVENUE: The Black Rabbit  (85 Queen Street\, Melbourne City)\nMUSIC: K-Pop\nDRESS CODE: Dress to impress\, Bring your own mask \n  \n\n\n\nTICKETS:\nOnline 1st Release K-Pop Party Ticket $20 SOLD OUT!\n———————–\n\n\n\n\nOnline K-Pop Ticket (5th Feb) + Eng Pop & EDM Ticket (19th Feb) $25  SOLD OUT!\n———————-\n\n\n\nK-Pop Party Door $25 AVAILABLE TONIGHT\n\n\n\n\n\n\n\n\n\n\n\n  \nPRIZES GIVEAWAY \nWE GOT SOME PRIZES FOR YOU! BTS\, BLACKPINK\, TWICE\, NCT Poster giveaway. Please go to this link https://www.facebook.com/AusKpopParty/posts/1015769252165982 to find out more! We are expecting full capacity for 5th Feb Event! It’s going to be a really Fun Night! 🙂 \n \n  \n  \nEnglish Pop\, Top 40 & EDM Party is coming on Friday 19th February at the Black Rabbit. Pay only $5 more to get a ticket for English Pop\, Top 40 & EDM Party (19th Feb)! \n \n  \nFacebook Event Pages (Please click ‘interested’ or ‘going’ for updated information) https://www.facebook.com/events/403469577404169 \n  \n  \n  \n\n  \nFull Capacity Event! \nPhotos from the Last Month K-Pop Party \n \n  \n  \nPhotos from the Year 2019 K-Pop Parties \n \n
URL:https://www.kpopnight.com.au/event/melbourne-kpop-party-friday-5th-february-2021/
LOCATION:The Black Rabbit\, 85 Queen Street\, Melbourne\, Victoria\, 3000\, Australia
CATEGORIES:Music
ATTACH;FMTTYPE=image/jpeg:https://www.kpopnight.com.au/wp-content/uploads/2021/01/K-Pop-Melbourne-February-Facebook-Event-Page-5th-Feb-2021-20210205-2.jpg
ORGANIZER;CN="Aus%20Kpop%20Party":MAILTO:https://www.facebook.com/AusKpopParty/
END:VEVENT
END:VCALENDAR